BEGIN:VCALENDAR
VERSION:2.0
PRODID:-//Concello de Quiroga - ECPv6.15.20//NONSGML v1.0//EN
CALSCALE:GREGORIAN
METHOD:PUBLISH
X-WR-CALNAME:Concello de Quiroga
X-ORIGINAL-URL:https://concellodequiroga.com
X-WR-CALDESC:Events for Concello de Quiroga
REFRESH-INTERVAL;VALUE=DURATION:PT1H
X-Robots-Tag:noindex
X-PUBLISHED-TTL:PT1H
BEGIN:VTIMEZONE
TZID:Europe/Paris
BEGIN:DAYLIGHT
TZOFFSETFROM:+0100
TZOFFSETTO:+0200
TZNAME:CEST
DTSTART:20180325T010000
END:DAYLIGHT
BEGIN:STANDARD
TZOFFSETFROM:+0200
TZOFFSETTO:+0100
TZNAME:CET
DTSTART:20181028T010000
END:STANDARD
BEGIN:DAYLIGHT
TZOFFSETFROM:+0100
TZOFFSETTO:+0200
TZNAME:CEST
DTSTART:20190331T010000
END:DAYLIGHT
BEGIN:STANDARD
TZOFFSETFROM:+0200
TZOFFSETTO:+0100
TZNAME:CET
DTSTART:20191027T010000
END:STANDARD
BEGIN:DAYLIGHT
TZOFFSETFROM:+0100
TZOFFSETTO:+0200
TZNAME:CEST
DTSTART:20200329T010000
END:DAYLIGHT
BEGIN:STANDARD
TZOFFSETFROM:+0200
TZOFFSETTO:+0100
TZNAME:CET
DTSTART:20201025T010000
END:STANDARD
BEGIN:DAYLIGHT
TZOFFSETFROM:+0100
TZOFFSETTO:+0200
TZNAME:CEST
DTSTART:20210328T010000
END:DAYLIGHT
BEGIN:STANDARD
TZOFFSETFROM:+0200
TZOFFSETTO:+0100
TZNAME:CET
DTSTART:20211031T010000
END:STANDARD
END:VTIMEZONE
BEGIN:VEVENT
DTSTART;VALUE=DATE:20200613
DTEND;VALUE=DATE:20200614
DTSTAMP:20260423T123025
CREATED:20190704T110620Z
LAST-MODIFIED:20190704T112800Z
UID:5069-1592006400-1592092799@concellodequiroga.com
SUMMARY:Festa do San Antón
DESCRIPTION:Típica festa rural\, con misa\, procesión e baile polo serán.
URL:https://concellodequiroga.com/evento/festa-do-san-anton-xestoso/
LOCATION:Xestoso
END:VEVENT
BEGIN:VEVENT
DTSTART;VALUE=DATE:20200612
DTEND;VALUE=DATE:20200614
DTSTAMP:20260423T123025
CREATED:20190704T102257Z
LAST-MODIFIED:20190704T113704Z
UID:5020-1591920000-1592092799@concellodequiroga.com
SUMMARY:Festa do San Antón
DESCRIPTION:Típica festa rural\, con misa\, procesión e baile polo serán. \nTen como elemento singularizador a chamada “subasta de productos do porco” na que os veciños ofrécenlle ao San Antón todo tipo de productos derivados do porco: chourizos\, lacóns\, cachuchas etc. \nUnha vez concluida a celebración relixiosa procédese á subasta pública dos productos ofrecidos. A recadación é para a parroquia
URL:https://concellodequiroga.com/evento/festa-do-san-anton-hospital/
LOCATION:Hospital
END:VEVENT
BEGIN:VEVENT
DTSTART;VALUE=DATE:20200528
DTEND;VALUE=DATE:20200529
DTSTAMP:20260423T123025
CREATED:20190704T104806Z
LAST-MODIFIED:20190704T113927Z
UID:5047-1590624000-1590710399@concellodequiroga.com
SUMMARY:Festa de Centais
DESCRIPTION:Típica festa rural\, con misa\, procesión e baile polo serán.
URL:https://concellodequiroga.com/evento/festa-de-centais/
END:VEVENT
BEGIN:VEVENT
DTSTART;VALUE=DATE:20200508
DTEND;VALUE=DATE:20200509
DTSTAMP:20260423T123025
CREATED:20190704T115733Z
LAST-MODIFIED:20190704T120202Z
UID:5093-1588896000-1588982399@concellodequiroga.com
SUMMARY:Mostra do aceite de Quiroga no muíño de Bendilló
DESCRIPTION:Declarada festa de interés turístico de Galicia\, acordo do Consello da Xunta de Galicia do 22 de maio de 2013. \nUnha vez realizada a colleita da oliva se procede a la elaboración artesanal do aceite en decembro-xaneiro (dependendo do ano). \nO proceso consiste en moer as olivas nun muíño que consta dunha pedra redonda e vertical que xira sobre unha base cóncava do mesmo material. \nA pasta resultante trasládanse ao lagar\, onde se prensa en capachos de esparto ao tempo que se lle engade auga recollendo\, nun recipiente\, o líquido resultante. Alí\, polas diferentes densidades dos dous líquidos\, se separa o aceite do auga. \nO aceite obtido de machacar as olivas é aceite virxe de calidade extra. Ao resultado que se obtién ao final do proceso se lle chama «borra». \nEste último se utilizaba para untar os cornos e as ferramentas\, tamén as lámpadas e os animais. \nCoa mostra do aceite téntase promover un produto que en outro tempo tivera unha grande importancia e que agora se está recuperando a grandes pasos co coidado das vellas prantas e a incorporación de nuevas plantacións.
URL:https://concellodequiroga.com/evento/mostra-do-aceite-de-quiroga-no-muino-de-bendillo/
LOCATION:Bendilló\, As Farrapas
END:VEVENT
BEGIN:VEVENT
DTSTART;VALUE=DATE:20200425
DTEND;VALUE=DATE:20200426
DTSTAMP:20260423T123026
CREATED:20190704T104400Z
LAST-MODIFIED:20190704T121102Z
UID:5041-1587772800-1587859199@concellodequiroga.com
SUMMARY:Festa do San Marcos
DESCRIPTION:Festa relixiosa con misa solemne e procesión.
URL:https://concellodequiroga.com/evento/festa-do-san-marcos-a-lama-fisteus/
LOCATION:A Lama\, Fisteus
END:VEVENT
BEGIN:VEVENT
DTSTART;VALUE=DATE:20200425
DTEND;VALUE=DATE:20200426
DTSTAMP:20260423T123026
CREATED:20190704T101957Z
LAST-MODIFIED:20190704T121342Z
UID:5018-1587772800-1587859199@concellodequiroga.com
SUMMARY:Festa do San Marcos
DESCRIPTION:Típica festa rural\, con misa\, procesión e baile polo serán.
URL:https://concellodequiroga.com/evento/festa-do-san-marcos-paradaseca/
LOCATION:Paradaseca
END:VEVENT
BEGIN:VEVENT
DTSTART;VALUE=DATE:20200411
DTEND;VALUE=DATE:20200413
DTSTAMP:20260423T123026
CREATED:20190703T165559Z
LAST-MODIFIED:20190704T153643Z
UID:4966-1586563200-1586735999@concellodequiroga.com
SUMMARY:Feira do Viño de Quiroga
DESCRIPTION:A feira do viño de Quiroga convírtese\, cada ano\, nun excelente escaparate da produción vitivinícola da Ribeira Sacra. \nAsí\, cada sábado e domingo da Pascua\, dende hai máis de 30 anos o Concello de Quiroga organiza unha exaltación dos seus afamados caldos na que participan aqueles colleiteiros que elaboran os seus viños\, aínda\, dun xeito artesanal. \nOs postos de venta e mostra instálanse nun tramo da Rúa Real\, acompañados por puntos de venta de todo tipo de produtos típicos artesanais da zoa: mel\, aceite\, augardente\, licores\, castañas secas\, etc. \nMilleiros de visitantes achéganse a Quiroga para gozar dos seus viños e poder asistir a propia celebración e as numerosas actividades paralelas que se organizan\, como exposicións\, carreira popular\, concertos\, alboradas… \nAno tras ano convertíuse nunha das feiras máis importantes do nordeste da Península Ibérica\, xunto coas de Amandi e Chantada.
URL:https://concellodequiroga.com/evento/feira-do-vino-de-quiroga/
LOCATION:Quiroga
END:VEVENT
BEGIN:VEVENT
DTSTART;VALUE=DATE:20200319
DTEND;VALUE=DATE:20200320
DTSTAMP:20260423T123026
CREATED:20190704T154314Z
LAST-MODIFIED:20190704T154628Z
UID:5122-1584576000-1584662399@concellodequiroga.com
SUMMARY:Festa do San Xosé
DESCRIPTION:Típica festa rural\, con misa\, procesión e baile polo serán.
URL:https://concellodequiroga.com/evento/festa-do-san-xose-en-vilar-do-lor/
LOCATION:Vilar do Lor
END:VEVENT
BEGIN:VEVENT
DTSTART;VALUE=DATE:20200319
DTEND;VALUE=DATE:20200320
DTSTAMP:20260423T123026
CREATED:20190704T154307Z
LAST-MODIFIED:20190704T155250Z
UID:5121-1584576000-1584662399@concellodequiroga.com
SUMMARY:Festa do San Xosé
DESCRIPTION:Típica festa rural con misa\, procesión e baile polo serán.
URL:https://concellodequiroga.com/evento/festa-do-san-xose-en-lamas-do-lor/
LOCATION:Lamas do Lor
END:VEVENT
BEGIN:VEVENT
DTSTART;VALUE=DATE:20200319
DTEND;VALUE=DATE:20200320
DTSTAMP:20260423T123026
CREATED:20190704T110237Z
LAST-MODIFIED:20190704T155455Z
UID:5063-1584576000-1584662399@concellodequiroga.com
SUMMARY:Festa do San Xosé
DESCRIPTION:Típica festa rural\, con misa\, procesión e baile polo serán.
URL:https://concellodequiroga.com/evento/festa-do-san-xose-bustelo-do-lor-lamas-do-lor-e-vilar-do-lor/
LOCATION:Bustelo do Lor
END:VEVENT
BEGIN:VEVENT
DTSTART;VALUE=DATE:20200126
DTEND;VALUE=DATE:20200127
DTSTAMP:20260423T123026
CREATED:20190704T162550Z
LAST-MODIFIED:20190704T163508Z
UID:5162-1579996800-1580083199@concellodequiroga.com
SUMMARY:Festa de San Sebastián
DESCRIPTION:Típica festa rural con misa\, procesión e baile polo serán que se celebra o último domingo de Xaneiro.
URL:https://concellodequiroga.com/evento/festa-de-san-sebastian-en-vilar-do-lor/
LOCATION:Vilar do Lor
END:VEVENT
BEGIN:VEVENT
DTSTART;VALUE=DATE:20200126
DTEND;VALUE=DATE:20200127
DTSTAMP:20260423T123026
CREATED:20190704T162543Z
LAST-MODIFIED:20190704T162820Z
UID:5161-1579996800-1580083199@concellodequiroga.com
SUMMARY:Festa de San Sebastián
DESCRIPTION:Típica festa rural\, con misa\, procesión e baile polo serán que se celebra o último domingo de Xaneiro.
URL:https://concellodequiroga.com/evento/festa-de-san-sebastian-en-soan/
LOCATION:Soan
END:VEVENT
BEGIN:VEVENT
DTSTART;VALUE=DATE:20200126
DTEND;VALUE=DATE:20200127
DTSTAMP:20260423T123026
CREATED:20190704T110528Z
LAST-MODIFIED:20190704T164235Z
UID:5067-1579996800-1580083199@concellodequiroga.com
SUMMARY:Festa de San Sebastián
DESCRIPTION:Típica festa rural con misa\, procesión e baile polo serán que se celebra o último domingo de Xaneiro.
URL:https://concellodequiroga.com/evento/festa-de-san-sebastian-en-orxais/
LOCATION:Orxais
END:VEVENT
BEGIN:VEVENT
DTSTART;VALUE=DATE:20200125
DTEND;VALUE=DATE:20200126
DTSTAMP:20260423T123026
CREATED:20190704T105649Z
LAST-MODIFIED:20190704T173332Z
UID:5055-1579910400-1579996799@concellodequiroga.com
SUMMARY:Festa do San Vicente
DESCRIPTION:Típica festa rural con misa\, procesión e baile polo serán.
URL:https://concellodequiroga.com/evento/festa-do-san-vicente-margaride/
LOCATION:Margaride
END:VEVENT
BEGIN:VEVENT
DTSTART;VALUE=DATE:20200120
DTEND;VALUE=DATE:20200121
DTSTAMP:20260423T123026
CREATED:20190704T103713Z
LAST-MODIFIED:20190704T173407Z
UID:5037-1579478400-1579564799@concellodequiroga.com
SUMMARY:Festa de Vilar de Mondelo
DESCRIPTION:Típica festa rural con misa\, procesión e baile polo serán.
URL:https://concellodequiroga.com/evento/festa-de-vilar-de-mondelo/
LOCATION:Vilar de Mondelo
END:VEVENT
BEGIN:VEVENT
DTSTART;VALUE=DATE:20200119
DTEND;VALUE=DATE:20200120
DTSTAMP:20260423T123026
CREATED:20190704T102546Z
LAST-MODIFIED:20190704T161840Z
UID:5022-1579392000-1579478399@concellodequiroga.com
SUMMARY:Festa do San Antón
DESCRIPTION:Típica festa rural con misa\, procesión e baile polo serán. \nTen como elemento singularizador a chamada “Subasta de productos do porco” na que os veciños ofrécenlle ao San Antón todo tipo de productos derivados do porco: chourizos\, lacóns\, cachuchas\, etc. \nUnha vez concluida a celebración relixiosa procédese á subasta pública dos productos ofrecidos. A recadación é para a parroquia
URL:https://concellodequiroga.com/evento/festa-do-san-anton-caspedro/
LOCATION:Caspedro
END:VEVENT
BEGIN:VEVENT
DTSTART;VALUE=DATE:20191111
DTEND;VALUE=DATE:20191112
DTSTAMP:20260423T123026
CREATED:20190704T174857Z
LAST-MODIFIED:20190704T175130Z
UID:5223-1573430400-1573516799@concellodequiroga.com
SUMMARY:Festa do San Martiño
DESCRIPTION:Festa tradicional celebrada en honor a San Martiño\, patrono de Quiroga\, organizada polos veciños do barrio coñecido como a Praza e o Concello. \nPola mañá se celebran os actos relixiosos con misa solemne e procesión\, e pola tarde numerosos actos culturais\, xogos populares para nenos e maiores e o acto central da fiesta: un multitudinario magosto regado con viño novo. \nOs actos desenvólvense na Praza Maior de Quiroga.
URL:https://concellodequiroga.com/evento/festa-do-san-martino-en-quiroga/
LOCATION:Quiroga
END:VEVENT
BEGIN:VEVENT
DTSTART;VALUE=DATE:20191013
DTEND;VALUE=DATE:20191014
DTSTAMP:20260423T123026
CREATED:20190704T102833Z
LAST-MODIFIED:20190704T175507Z
UID:5026-1570924800-1571011199@concellodequiroga.com
SUMMARY:Festa da Virxe do Rosario
DESCRIPTION:Festa relixiosa con misa solemne e procesión.
URL:https://concellodequiroga.com/evento/festa-da-virxe-do-rosario-en-cereixido/
LOCATION:Cereixido
END:VEVENT
BEGIN:VEVENT
DTSTART;VALUE=DATE:20191004
DTEND;VALUE=DATE:20191005
DTSTAMP:20260423T123026
CREATED:20190704T182543Z
LAST-MODIFIED:20190704T182543Z
UID:5246-1570147200-1570233599@concellodequiroga.com
SUMMARY:Festa do Rosario
DESCRIPTION:Típica festa rural con misa\, procesión e baile polo serán.
URL:https://concellodequiroga.com/evento/festa-do-rosario-en-vilar-do-lor/
LOCATION:Vilar do Lor
END:VEVENT
BEGIN:VEVENT
DTSTART;VALUE=DATE:20191004
DTEND;VALUE=DATE:20191005
DTSTAMP:20260423T123026
CREATED:20190704T181639Z
LAST-MODIFIED:20190704T182054Z
UID:5238-1570147200-1570233599@concellodequiroga.com
SUMMARY:Festa do Rosario
DESCRIPTION:Típica festa rural con misa\, procesión e baile polo serán.
URL:https://concellodequiroga.com/evento/festa-do-rosario-en-lamas-do-lor/
LOCATION:Lamas do Lor
END:VEVENT
BEGIN:VEVENT
DTSTART;VALUE=DATE:20191004
DTEND;VALUE=DATE:20191005
DTSTAMP:20260423T123026
CREATED:20190704T105953Z
LAST-MODIFIED:20190704T181338Z
UID:5059-1570147200-1570233599@concellodequiroga.com
SUMMARY:Festa do Rosario
DESCRIPTION:Típica festa rural con misa\, procesión e baile polo serán.
URL:https://concellodequiroga.com/evento/festa-do-rosario-en-bustelo-do-lor/
LOCATION:Bustelo do Lor
END:VEVENT
BEGIN:VEVENT
DTSTART;VALUE=DATE:20191004
DTEND;VALUE=DATE:20191005
DTSTAMP:20260423T123026
CREATED:20190704T103442Z
LAST-MODIFIED:20190704T182911Z
UID:5032-1570147200-1570233599@concellodequiroga.com
SUMMARY:Festa do Rosario
DESCRIPTION:Festa relixiosa\, misa solemne e procesión. Os días precedentes celébrase un novenario.
URL:https://concellodequiroga.com/evento/festa-do-rosario-en-espandariz/
LOCATION:Espandariz
END:VEVENT
BEGIN:VEVENT
DTSTART;VALUE=DATE:20190929
DTEND;VALUE=DATE:20190930
DTSTAMP:20260423T123026
CREATED:20190704T103138Z
LAST-MODIFIED:20190704T174250Z
UID:5030-1569715200-1569801599@concellodequiroga.com
SUMMARY:Festa da Virxe da Saude
DESCRIPTION:Festa relixiosa cunha misa solemne e procesión que se celebra o último domingo de Setembro e un novenario que se celebra nos días precedentes.
URL:https://concellodequiroga.com/evento/festa-da-virxe-da-saude-en-nocedo/
LOCATION:Nocedo
END:VEVENT
BEGIN:VEVENT
DTSTART;VALUE=DATE:20190929
DTEND;VALUE=DATE:20190930
DTSTAMP:20260423T123026
CREATED:20190704T095939Z
LAST-MODIFIED:20190704T183431Z
UID:5009-1569715200-1569801599@concellodequiroga.com
SUMMARY:Festa do San Miguel
DESCRIPTION:Típica festa rural\, con misa\, procesión e baile polo serán.
URL:https://concellodequiroga.com/evento/festa-do-san-miguel-en-montefurado/
LOCATION:Montefurado
END:VEVENT
BEGIN:VEVENT
DTSTART;VALUE=DATE:20190919
DTEND;VALUE=DATE:20190920
DTSTAMP:20260423T123026
CREATED:20190704T110117Z
LAST-MODIFIED:20190704T184306Z
UID:5061-1568851200-1568937599@concellodequiroga.com
SUMMARY:Festa de Santa María Madalena
DESCRIPTION:Típica festa rural\, con misa\, procesión e baile polo serán. \nNesta zona está moi arraigado o deporte autóctono dos bolos e\, nas festas se celebra unha importante competición deste ancestral deporte.
URL:https://concellodequiroga.com/evento/festa-de-santa-maria-madalena-en-a-seara/
LOCATION:A Seara
END:VEVENT
BEGIN:VEVENT
DTSTART;VALUE=DATE:20190907
DTEND;VALUE=DATE:20190910
DTSTAMP:20260423T123026
CREATED:20190703T193406Z
LAST-MODIFIED:20190704T191846Z
UID:4998-1567814400-1568073599@concellodequiroga.com
SUMMARY:Romaría de Nosa Señora dos Remedios
DESCRIPTION:Romaría tradicicional de moito arraigo en toda a Comarca de Quiroga. \nCelébrase unha novena na honra da Virxe do Remedios\, na que participa un grande número de persoas. \nO día 7\, último día do novenario\, a Virxe en procesión percorre a rúas de A Ermida. \nO día 8\, celébranse misas durante toda a mañán\, aínda que o acto central é a partires das 13 horas: misa Solemne con procesión na que participan as tradicionais figuras do “meco” e as “pampornigas”. \nNeste día multitude de familias e grupos de amigos xantan no campo da festa de A Ermida. Pola tarde xogos populares e festa con orquesta. \nO día 9 repítense os actos do día anterior.
URL:https://concellodequiroga.com/evento/romaria-de-nosa-senora-dos-remedios-en-a-ermida/
LOCATION:A Ermida
END:VEVENT
BEGIN:VEVENT
DTSTART;VALUE=DATE:20190904
DTEND;VALUE=DATE:20190906
DTSTAMP:20260423T123026
CREATED:20190704T105038Z
LAST-MODIFIED:20190704T192102Z
UID:5051-1567555200-1567727999@concellodequiroga.com
SUMMARY:Festa dos Remedios
DESCRIPTION:Típica festa rural\, con misa\, procesión e baile polo serán.
URL:https://concellodequiroga.com/evento/festa-dos-remedios-en-carballo-do-lor/
LOCATION:Carballo do Lor
END:VEVENT
BEGIN:VEVENT
DTSTART;VALUE=DATE:20190828
DTEND;VALUE=DATE:20190830
DTSTAMP:20260423T123026
CREATED:20190704T101632Z
LAST-MODIFIED:20190704T192551Z
UID:5014-1566950400-1567123199@concellodequiroga.com
SUMMARY:Festa de San Xoán das Farrapas
DESCRIPTION:Típica festa rural\, con misa\, procesión e baile polo serán.
URL:https://concellodequiroga.com/evento/festa-de-san-xoan-das-farrapas-en-bendillo/
LOCATION:Bendilló\, As Farrapas
END:VEVENT
BEGIN:VEVENT
DTSTART;VALUE=DATE:20190824
DTEND;VALUE=DATE:20190826
DTSTAMP:20260423T123027
CREATED:20190704T095712Z
LAST-MODIFIED:20190704T193154Z
UID:5007-1566604800-1566777599@concellodequiroga.com
SUMMARY:Festa de San Bartolomé
DESCRIPTION:Misa Solemne e Procesión as que se achegan ofrecidos de toda a comarca para cura-lo medo. \nTamén se celebran competicións de deportes autóctonos e bailes populares no recinto da festa.
URL:https://concellodequiroga.com/evento/festa-de-san-bartolome-en-hospital/
LOCATION:Hospital
END:VEVENT
BEGIN:VEVENT
DTSTART;VALUE=DATE:20190822
DTEND;VALUE=DATE:20190823
DTSTAMP:20260423T123027
CREATED:20190704T105849Z
LAST-MODIFIED:20190704T193927Z
UID:5057-1566432000-1566518399@concellodequiroga.com
SUMMARY:Festa do Soldón da Seara
DESCRIPTION:Típica festa rural\, con misa\, procesión e baile polo serán. \nNesta zona está moi arraigado o deporte autóctono dos bolos e\, nas festas\, se celebra unha importante competición deste ancestral deporte.
URL:https://concellodequiroga.com/evento/festa-do-soldon-da-seara/
LOCATION:A Seara
END:VEVENT
END:VCALENDAR